BEGIN:VCALENDAR
VERSION:2.0
PRODID:-//PuMMA - ECPv5.4.0.2//NONSGML v1.0//EN
CALSCALE:GREGORIAN
METHOD:PUBLISH
X-WR-CALNAME:PuMMA
X-ORIGINAL-URL:https://pumma-h2020.eu
X-WR-CALDESC:Events for PuMMA
BEGIN:VTIMEZONE
TZID:Europe/Paris
BEGIN:DAYLIGHT
TZOFFSETFROM:+0100
TZOFFSETTO:+0200
TZNAME:CEST
DTSTART:20220327T010000
END:DAYLIGHT
BEGIN:STANDARD
TZOFFSETFROM:+0200
TZOFFSETTO:+0100
TZNAME:CET
DTSTART:20221030T010000
END:STANDARD
END:VTIMEZONE
BEGIN:VEVENT
DTSTART;VALUE=DATE:20220515
DTEND;VALUE=DATE:20220521
DTSTAMP:20260421T120805
CREATED:20220307T140240Z
LAST-MODIFIED:20220307T140240Z
UID:3813-1652572800-1653091199@pumma-h2020.eu
SUMMARY:International Conference on Physics of Reactors 2022 (PHYSOR 2022)
DESCRIPTION:The conference will take place in Pittsburgh\, Pennsylvania\, USA on May 15-20\, 2022. PHYSOR attracts international experts from all segments of the nuclear industry and scientific community\, including vendors\, utilities\, laboratories\, and universities. The theme for this year’s conference is Making Virtual a Reality: Advancements in Reactor Physics to Leap Forward Reactor Operation and Deployment.
URL:https://pumma-h2020.eu/event/international-conference-on-physics-of-reactors-2022-physor-2022/
LOCATION:Pittsburgh\, Pennsylvania\, USA\, Pittsburgh\, United States
END:VEVENT
END:VCALENDAR