BEGIN:VCALENDAR
VERSION:2.0
PRODID:-//PuMMA - ECPv5.4.0.2//NONSGML v1.0//EN
CALSCALE:GREGORIAN
METHOD:PUBLISH
X-WR-CALNAME:PuMMA
X-ORIGINAL-URL:https://pumma-h2020.eu
X-WR-CALDESC:Events for PuMMA
BEGIN:VTIMEZONE
TZID:Europe/Paris
BEGIN:DAYLIGHT
TZOFFSETFROM:+0100
TZOFFSETTO:+0200
TZNAME:CEST
DTSTART:20210328T010000
END:DAYLIGHT
BEGIN:STANDARD
TZOFFSETFROM:+0200
TZOFFSETTO:+0100
TZNAME:CET
DTSTART:20211031T010000
END:STANDARD
END:VTIMEZONE
BEGIN:VEVENT
DTSTART;TZID=Europe/Paris:20210413T130000
DTEND;TZID=Europe/Paris:20210415T153000
DTSTAMP:20260422T135959
CREATED:20210331T121423Z
LAST-MODIFIED:20210331T122526Z
UID:3565-1618318800-1618500600@pumma-h2020.eu
SUMMARY:World Nuclear Fuel Cycle
DESCRIPTION:World Nuclear Fuel Cycle (WNFC) is a top-level international forum co-organised by Nuclear Energy Institute and World Nuclear Association. \nJoin this virtual event to connect your company with cutting-edge information and emerging trends which affect the nuclear industry. Leading industry experts will provide information and insights that will help you and your company navigate successfully through the complex and changing fuel marketplace.
URL:https://pumma-h2020.eu/event/world-nuclear-fuel-cycle/
LOCATION:Online
CATEGORIES:Conference
END:VEVENT
END:VCALENDAR