BEGIN:VCALENDAR
VERSION:2.0
PRODID:-//PuMMA - ECPv5.4.0.2//NONSGML v1.0//EN
CALSCALE:GREGORIAN
METHOD:PUBLISH
X-WR-CALNAME:PuMMA
X-ORIGINAL-URL:https://pumma-h2020.eu
X-WR-CALDESC:Events for PuMMA
BEGIN:VTIMEZONE
TZID:Europe/Paris
BEGIN:DAYLIGHT
TZOFFSETFROM:+0100
TZOFFSETTO:+0200
TZNAME:CEST
DTSTART:20210328T010000
END:DAYLIGHT
BEGIN:STANDARD
TZOFFSETFROM:+0200
TZOFFSETTO:+0100
TZNAME:CET
DTSTART:20211031T010000
END:STANDARD
END:VTIMEZONE
BEGIN:VEVENT
DTSTART;VALUE=DATE:20210504
DTEND;VALUE=DATE:20210506
DTSTAMP:20260422T121935
CREATED:20210210T154926Z
LAST-MODIFIED:20210331T122535Z
UID:3490-1620086400-1620259199@pumma-h2020.eu
SUMMARY:Nuclear Fuel Cycle: A Chemistry Conference (NFC3)
DESCRIPTION:The first international edition of the Nuclear Fuel Cycle: A Chemistry Conference (NFC3) will be held on May 4-5th\, 2021. \nThis edition will be held as a virtual event and aims to give the opportunity for young scientists to exchange and present chemistry advances related to all aspects of the nuclear fuel cycles. \nSupported by the H2020 GENIORS program\, the NFC3 conference will be organized jointly by the French Alternative Energies and Atomic Energy Commission (CEA)\, the University of Montpellier (UM) and the French National Centre for Scientific Research (CNRS). The conference intends to provide a unique platform dedicated to discussions on the latest chemistry research progress and breakthroughs within the nuclear fuel cycle community. \nAuthors must submit an abstract online before March 29th\, 2021.
URL:https://pumma-h2020.eu/event/nuclear-fuel-cycle-a-chemistry-conference-nfc3/
LOCATION:Online
CATEGORIES:Conference
END:VEVENT
END:VCALENDAR